BEGIN:VCALENDAR
VERSION:2.0
PRODID:-//ChamberMaster//Event Calendar 2.0//EN
METHOD:PUBLISH
X-PUBLISHED-TTL:P3D
REFRESH-INTERVAL:P3D
CALSCALE:GREGORIAN
BEGIN:VEVENT
DTSTART:20140916T220000Z
DTEND:20140916T230000Z
X-MICROSOFT-CDO-ALLDAYEVENT:FALSE
SUMMARY:Ribbon Cutting - Stone House Salon
DESCRIPTION:5201 Colleyville Blvd.\n\nColleyville\n\nRep:  Lauren and Susan Hughes\, owners
X-ALT-DESC;FMTTYPE=text/html:5201 Colleyville Blvd.<br />\nColleyville<br />\nRep: &nbsp\;Lauren and Susan Hughes\, owners
LOCATION:
UID:e.642.6939
SEQUENCE:3
DTSTAMP:20260421T205431Z
URL:https://business.colleyvillechamber.org/events/details/ribbon-cutting-stone-house-salon-09-16-2014-6939
END:VEVENT

END:VCALENDAR
