BEGIN:VCALENDAR
VERSION:2.0
PRODID:-//ChamberMaster//Event Calendar 2.0//EN
METHOD:PUBLISH
X-PUBLISHED-TTL:P3D
REFRESH-INTERVAL:P3D
CALSCALE:GREGORIAN
BEGIN:VEVENT
DTSTART:20141218T230000Z
DTEND:20141219T000000Z
X-MICROSOFT-CDO-ALLDAYEVENT:FALSE
SUMMARY:Ribbon Cutting - Supercuts
DESCRIPTION:Ribbon Cutting for Supercuts\n\n4709 Colleyville Blvd.\, Ste. 580\n\nColleyville\, TX  76034\n\n(Whole Foods Market/Colleyville Downs)\n\nOwners:  Cathy Watson and Rick Watson
X-ALT-DESC;FMTTYPE=text/html:Ribbon Cutting for Supercuts<br />\n4709 Colleyville Blvd.\, Ste. 580<br />\nColleyville\, TX&nbsp\; 76034<br />\n(Whole Foods Market/Colleyville Downs)<br />\nOwners:&nbsp\; Cathy Watson and Rick Watson
LOCATION:
UID:e.642.7253
SEQUENCE:3
DTSTAMP:20260421T153345Z
URL:https://business.colleyvillechamber.org/events/details/ribbon-cutting-supercuts-12-18-2014-7253
END:VEVENT

END:VCALENDAR
