BEGIN:VCALENDAR
VERSION:2.0
PRODID:-//ChamberMaster//Event Calendar 2.0//EN
METHOD:PUBLISH
X-PUBLISHED-TTL:P3D
REFRESH-INTERVAL:P3D
CALSCALE:GREGORIAN
BEGIN:VEVENT
DTSTART:20130709T220000Z
DTEND:20130710T000000Z
X-MICROSOFT-CDO-ALLDAYEVENT:FALSE
SUMMARY:Ribbon cutting Taigon Taekwondo
DESCRIPTION:Demonstration by world renowned Korean Taigon Taekwondo team in the area for two-weeks only!!  Ribbon Cutting at 5:00 with show to follow.  Bring your whole family for this exciting event!\n\nBring lawn chairs and stay for free show!!
X-ALT-DESC;FMTTYPE=text/html:Demonstration by world renowned Korean <strong><em>Taigon</em></strong>&nbsp\;Taekwondo team in the area for two-weeks only!!&nbsp\; Ribbon Cutting at 5:00 with show to follow.&nbsp\; Bring your whole family for this&nbsp\;exciting event!<br />\n<span style="color: rgb(255\, 0\, 0)\;">Bring lawn chairs and stay for free show!!</span>
LOCATION:6100 Colleyville Blvd\, Suite 100 Colleyville\, Tx 76034
UID:e.642.5673
SEQUENCE:3
DTSTAMP:20260422T210023Z
URL:https://business.colleyvillechamber.org/events/details/ribbon-cutting-taigon-taekwondo-07-09-2013-5673
END:VEVENT

END:VCALENDAR
