BEGIN:VCALENDAR
VERSION:2.0
PRODID:-//ChamberMaster//Event Calendar 2.0//EN
METHOD:PUBLISH
X-PUBLISHED-TTL:P3D
REFRESH-INTERVAL:P3D
CALSCALE:GREGORIAN
BEGIN:VEVENT
DTSTART:20130611T220000Z
DTEND:20130611T230000Z
X-MICROSOFT-CDO-ALLDAYEVENT:FALSE
SUMMARY:Ribbon Cutting Tete-a-Tete
DESCRIPTION:Welcome this new store as a chamber member!
X-ALT-DESC;FMTTYPE=text/html:Welcome this new store as a chamber member!&nbsp\;
LOCATION:3919-C Colleyville Boulevard Colleyville Texas 76034
UID:e.642.5649
SEQUENCE:3
DTSTAMP:20260422T210049Z
URL:https://business.colleyvillechamber.org/events/details/ribbon-cutting-tete-a-tete-06-11-2013-5649
END:VEVENT

END:VCALENDAR
