BEGIN:VCALENDAR
VERSION:2.0
PRODID:-//ChamberMaster//Event Calendar 2.0//EN
METHOD:PUBLISH
X-PUBLISHED-TTL:P3D
REFRESH-INTERVAL:P3D
CALSCALE:GREGORIAN
BEGIN:VEVENT
DTSTART:20141030T163000Z
DTEND:20141030T173000Z
X-MICROSOFT-CDO-ALLDAYEVENT:FALSE
SUMMARY:Ribbon Cutting - Texas Star Golf & Conference Center
DESCRIPTION:1400 Texas Star Pkwy\, Euless\, TX 76039
X-ALT-DESC;FMTTYPE=text/html:1400 Texas Star Pkwy\, Euless\, TX 76039
LOCATION:
UID:e.642.6943
SEQUENCE:3
DTSTAMP:20260421T190108Z
URL:https://business.colleyvillechamber.org/events/details/ribbon-cutting-texas-star-golf-conference-center-10-30-2014-6943
END:VEVENT

END:VCALENDAR
