BEGIN:VCALENDAR
VERSION:2.0
PRODID:-//ChamberMaster//Event Calendar 2.0//EN
METHOD:PUBLISH
X-PUBLISHED-TTL:P3D
REFRESH-INTERVAL:P3D
CALSCALE:GREGORIAN
BEGIN:VEVENT
DTSTART:20121002T220000Z
DTEND:20121002T233000Z
X-MICROSOFT-CDO-ALLDAYEVENT:FALSE
SUMMARY:Ribbon Cutting - The Face Place
DESCRIPTION:Ribbon Cutting\n\n104 Grapevine Highway\, Ste. 100\n\nHurst\, TX  76054\n\n817-281-0084\n\nRepresentative:  Donna Green
X-ALT-DESC;FMTTYPE=text/html:Ribbon Cutting<br />\n104 Grapevine Highway\, Ste. 100<br />\nHurst\, TX&nbsp\; 76054<br />\n817-281-0084<br />\nRepresentative:&nbsp\; Donna Green
LOCATION:
UID:e.642.5085
SEQUENCE:3
DTSTAMP:20260423T105557Z
URL:https://business.colleyvillechamber.org/events/details/ribbon-cutting-the-face-place-10-02-2012-5085
END:VEVENT

END:VCALENDAR
