BEGIN:VCALENDAR
VERSION:2.0
PRODID:-//ChamberMaster//Event Calendar 2.0//EN
METHOD:PUBLISH
X-PUBLISHED-TTL:P3D
REFRESH-INTERVAL:P3D
CALSCALE:GREGORIAN
BEGIN:VEVENT
DTSTART:20130228T230000Z
DTEND:20130301T000000Z
X-MICROSOFT-CDO-ALLDAYEVENT:FALSE
SUMMARY:Ribbon Cutting - The Joint
DESCRIPTION:
X-ALT-DESC;FMTTYPE=text/html:
LOCATION:The Joint-Colleyville 4902 Colleyville Blvd. Colleyville Dr. Davis Holt 817-885-7992
UID:e.642.5180
SEQUENCE:3
DTSTAMP:20260423T052941Z
URL:https://business.colleyvillechamber.org/events/details/ribbon-cutting-the-joint-02-28-2013-5180
END:VEVENT

END:VCALENDAR
