BEGIN:VCALENDAR
VERSION:2.0
PRODID:-//ChamberMaster//Event Calendar 2.0//EN
METHOD:PUBLISH
X-PUBLISHED-TTL:P3D
REFRESH-INTERVAL:P3D
CALSCALE:GREGORIAN
BEGIN:VEVENT
DTSTART:20141023T220000Z
DTEND:20141023T230000Z
X-MICROSOFT-CDO-ALLDAYEVENT:FALSE
SUMMARY:Ribbon Cutting - The Londoner Pub & Grill
DESCRIPTION:The Londoner Pub & Grill\n\n5150 Colleyville Blvd.\n\nColleyville\, TX  76034
X-ALT-DESC;FMTTYPE=text/html:The Londoner Pub &amp\; Grill<br />\n5150 Colleyville Blvd.<br />\nColleyville\, TX&nbsp\; 76034
LOCATION:
UID:e.642.7021
SEQUENCE:3
DTSTAMP:20260421T190205Z
URL:https://business.colleyvillechamber.org/events/details/ribbon-cutting-the-londoner-pub-grill-10-23-2014-7021
END:VEVENT

END:VCALENDAR
