BEGIN:VCALENDAR
VERSION:2.0
PRODID:-//ChamberMaster//Event Calendar 2.0//EN
METHOD:PUBLISH
X-PUBLISHED-TTL:P3D
REFRESH-INTERVAL:P3D
CALSCALE:GREGORIAN
BEGIN:VEVENT
DTSTART:20150127T230000Z
DTEND:20150128T000000Z
X-MICROSOFT-CDO-ALLDAYEVENT:FALSE
SUMMARY:Ribbon Cutting - The Perfect Workout
DESCRIPTION:6211 Colleyville Blvd.\, Suite 150\n\nColleyville\, TX  76034
X-ALT-DESC;FMTTYPE=text/html:6211 Colleyville Blvd.\, Suite 150<br />\nColleyville\, TX&nbsp\; 76034
LOCATION:
UID:e.642.7491
SEQUENCE:3
DTSTAMP:20260421T141524Z
URL:https://business.colleyvillechamber.org/events/details/ribbon-cutting-the-perfect-workout-01-27-2015-7491
END:VEVENT

END:VCALENDAR
