BEGIN:VCALENDAR
VERSION:2.0
PRODID:-//ChamberMaster//Event Calendar 2.0//EN
METHOD:PUBLISH
X-PUBLISHED-TTL:P3D
REFRESH-INTERVAL:P3D
CALSCALE:GREGORIAN
BEGIN:VEVENT
DTSTART:20130621T210000Z
DTEND:20130621T230000Z
X-MICROSOFT-CDO-ALLDAYEVENT:FALSE
SUMMARY:Ribbon Cutting The Posh Paw
DESCRIPTION:Grand Opening Party!\n\n6607 Colleyville Blvd across from Chamber office.
X-ALT-DESC;FMTTYPE=text/html:Grand Opening Party!<br />\n6607 Colleyville Blvd across from Chamber office. 
LOCATION:6607 Colleyville Blvd. Colleyville\, TX 76034 PARKING: PLEASE USE ROSS DOWNS ST. FOR PARKING
UID:e.642.5657
SEQUENCE:3
DTSTAMP:20260422T222818Z
URL:https://business.colleyvillechamber.org/events/details/ribbon-cutting-the-posh-paw-06-21-2013-5657
END:VEVENT

END:VCALENDAR
