BEGIN:VCALENDAR
VERSION:2.0
PRODID:-//ChamberMaster//Event Calendar 2.0//EN
METHOD:PUBLISH
X-PUBLISHED-TTL:P3D
REFRESH-INTERVAL:P3D
CALSCALE:GREGORIAN
BEGIN:VEVENT
DTSTART:20130328T220000Z
DTEND:20130328T233000Z
X-MICROSOFT-CDO-ALLDAYEVENT:FALSE
SUMMARY:Ribbon Cutting - Thrivent Financial
DESCRIPTION:
X-ALT-DESC;FMTTYPE=text/html:
LOCATION:Chamber Office 6700 Colleyville Blvd. Collleyville\, TX 76034
UID:e.642.5190
SEQUENCE:3
DTSTAMP:20260423T034045Z
URL:https://business.colleyvillechamber.org/events/details/ribbon-cutting-thrivent-financial-03-28-2013-5190
END:VEVENT

END:VCALENDAR
