BEGIN:VCALENDAR
VERSION:2.0
PRODID:-//ChamberMaster//Event Calendar 2.0//EN
METHOD:PUBLISH
X-PUBLISHED-TTL:P3D
REFRESH-INTERVAL:P3D
CALSCALE:GREGORIAN
BEGIN:VEVENT
DTSTART:20140218T231500Z
DTEND:20140219T000000Z
X-MICROSOFT-CDO-ALLDAYEVENT:FALSE
SUMMARY:Ribbon Cutting-U.S. Health Advisors
DESCRIPTION:
X-ALT-DESC;FMTTYPE=text/html:
LOCATION:1615 Precinct Line Rd.\, Suite 105 Hurst\, TX 76054 (817) 880-4882 ramirez.davidw@yahoo.com Click here to edit...
UID:e.642.6824
SEQUENCE:3
DTSTAMP:20260422T084912Z
URL:https://business.colleyvillechamber.org/events/details/ribbon-cutting-u-s-health-advisors-02-18-2014-6824
END:VEVENT

END:VCALENDAR
