BEGIN:VCALENDAR
VERSION:2.0
PRODID:-//ChamberMaster//Event Calendar 2.0//EN
METHOD:PUBLISH
X-PUBLISHED-TTL:P3D
REFRESH-INTERVAL:P3D
CALSCALE:GREGORIAN
BEGIN:VEVENT
DTSTART:20150217T230000Z
DTEND:20150218T010000Z
X-MICROSOFT-CDO-ALLDAYEVENT:FALSE
SUMMARY:Ribbon Cutting - Valentino's Pizzeria & Restaurant
DESCRIPTION:Valentino's Pizzeria & Restaurant\n\n1101 Cheek Sparger Rd.\n\nColleyville\, TX  76034\n\n(817) 281-6400\n\nOwner:  Mohammad Ehsan
X-ALT-DESC;FMTTYPE=text/html:Valentino&#39\;s Pizzeria &amp\; Restaurant<br />\n1101 Cheek Sparger Rd.<br />\nColleyville\, TX&nbsp\; 76034<br />\n(817) 281-6400<br />\nOwner:&nbsp\; Mohammad Ehsan
LOCATION:
UID:e.642.7496
SEQUENCE:3
DTSTAMP:20260421T124543Z
URL:https://business.colleyvillechamber.org/events/details/ribbon-cutting-valentino-s-pizzeria-restaurant-02-17-2015-7496
END:VEVENT

END:VCALENDAR
