BEGIN:VCALENDAR
VERSION:2.0
PRODID:-//ChamberMaster//Event Calendar 2.0//EN
METHOD:PUBLISH
X-PUBLISHED-TTL:P3D
REFRESH-INTERVAL:P3D
CALSCALE:GREGORIAN
BEGIN:VEVENT
DTSTART:20140918T220000Z
DTEND:20140918T230000Z
X-MICROSOFT-CDO-ALLDAYEVENT:FALSE
SUMMARY:Ribbon Cutting - Vennemeyer Plastic Surgery
DESCRIPTION:Multi-Chamber Ribbon Cutting event (Colleyville\, Southlake\, and Keller Chambers)\n\n500 N. Carroll Ave.\n\nSuite 110\n\nSouthlake\, TX  76092
X-ALT-DESC;FMTTYPE=text/html:Multi-Chamber Ribbon Cutting event (Colleyville\, Southlake\, and Keller Chambers)<br />\n500 N. Carroll Ave.<br />\nSuite 110<br />\nSouthlake\, TX&nbsp\; 76092
LOCATION:
UID:e.642.6922
SEQUENCE:3
DTSTAMP:20260421T205339Z
URL:https://business.colleyvillechamber.org/events/details/ribbon-cutting-vennemeyer-plastic-surgery-09-18-2014-6922
END:VEVENT

END:VCALENDAR
