BEGIN:VCALENDAR
VERSION:2.0
PRODID:-//ChamberMaster//Event Calendar 2.0//EN
METHOD:PUBLISH
X-PUBLISHED-TTL:P3D
REFRESH-INTERVAL:P3D
CALSCALE:GREGORIAN
BEGIN:VEVENT
DTSTART:20150512T210000Z
DTEND:20150512T220000Z
X-MICROSOFT-CDO-ALLDAYEVENT:FALSE
SUMMARY:Ribbon Cutting - Verizon Wireless Colleyville
DESCRIPTION:4714 Colleyville Blvd.\,\n\nColleyville\, TX  76034\n\nContact:  Johnny Apodaca\n\n972-249-7374
X-ALT-DESC;FMTTYPE=text/html:4714 Colleyville Blvd.\,<br />\nColleyville\, TX&nbsp\; 76034<br />\nContact:&nbsp\; Johnny Apodaca<br />\n972-249-7374
LOCATION:
UID:e.642.7775
SEQUENCE:3
DTSTAMP:20260421T084603Z
URL:https://business.colleyvillechamber.org/events/details/ribbon-cutting-verizon-wireless-colleyville-05-12-2015-7775
END:VEVENT

END:VCALENDAR
