BEGIN:VCALENDAR
VERSION:2.0
PRODID:-//ChamberMaster//Event Calendar 2.0//EN
METHOD:PUBLISH
X-PUBLISHED-TTL:P3D
REFRESH-INTERVAL:P3D
CALSCALE:GREGORIAN
BEGIN:VEVENT
DTSTART:20140327T210000Z
DTEND:20140328T000000Z
X-MICROSOFT-CDO-ALLDAYEVENT:FALSE
SUMMARY:Ribbon Cutting-VIP Mortgage
DESCRIPTION:Appetizers and beverages provided.  Chamber Ribbon Cutting at 5:15
X-ALT-DESC;FMTTYPE=text/html:Appetizers and beverages provided.&nbsp\; Chamber Ribbon Cutting at 5:15
LOCATION:92 Piazza Lane Ste. 100\, Colleyville
UID:e.642.6832
SEQUENCE:3
DTSTAMP:20260422T065802Z
URL:https://business.colleyvillechamber.org/events/details/ribbon-cutting-vip-mortgage-03-27-2014-6832
END:VEVENT

END:VCALENDAR
