BEGIN:VCALENDAR
VERSION:2.0
PRODID:-//ChamberMaster//Event Calendar 2.0//EN
METHOD:PUBLISH
X-PUBLISHED-TTL:P3D
REFRESH-INTERVAL:P3D
CALSCALE:GREGORIAN
BEGIN:VEVENT
DTSTART:20121102T123000Z
DTEND:20121102T133000Z
X-MICROSOFT-CDO-ALLDAYEVENT:FALSE
SUMMARY:Ribbon Cutting - Walmart Neighborhood Market
DESCRIPTION:4904 Colleyville Blvd.\n\nColleyville\, TX  76034\n\n817-770-8334\n\nStore Manager:  Steve Chapman
X-ALT-DESC;FMTTYPE=text/html:4904 Colleyville Blvd.<br />\nColleyville\, TX&nbsp\; 76034<br />\n817-770-8334<br />\nStore Manager:&nbsp\; Steve Chapman
LOCATION:
UID:e.642.5113
SEQUENCE:3
DTSTAMP:20260423T104448Z
URL:https://business.colleyvillechamber.org/events/details/ribbon-cutting-walmart-neighborhood-market-11-02-2012-5113
END:VEVENT

END:VCALENDAR
