BEGIN:VCALENDAR
VERSION:2.0
PRODID:-//ChamberMaster//Event Calendar 2.0//EN
METHOD:PUBLISH
X-PUBLISHED-TTL:P3D
REFRESH-INTERVAL:P3D
CALSCALE:GREGORIAN
BEGIN:VEVENT
DTSTART:20131015T220000Z
DTEND:20131015T230000Z
X-MICROSOFT-CDO-ALLDAYEVENT:FALSE
SUMMARY:Ribbon Cutting Web.Com
DESCRIPTION:Chamber Office\n\n6700 Colleyville Blvd.\n\nColleyville\, TX  76034
X-ALT-DESC;FMTTYPE=text/html:Chamber Office<br />\n6700 Colleyville Blvd.<br />\nColleyville\, TX&nbsp\; 76034
LOCATION:Location Change to Chamber Office!!!
UID:e.642.5753
SEQUENCE:3
DTSTAMP:20260422T161709Z
URL:https://business.colleyvillechamber.org/events/details/ribbon-cutting-web-com-10-15-2013-5753
END:VEVENT

END:VCALENDAR
