BEGIN:VCALENDAR
VERSION:2.0
PRODID:-//ChamberMaster//Event Calendar 2.0//EN
METHOD:PUBLISH
X-PUBLISHED-TTL:P3D
REFRESH-INTERVAL:P3D
CALSCALE:GREGORIAN
BEGIN:VEVENT
DTSTART:20140107T180000Z
DTEND:20140107T190000Z
X-MICROSOFT-CDO-ALLDAYEVENT:FALSE
SUMMARY:Ribbon Cutting Which Wich
DESCRIPTION:
X-ALT-DESC;FMTTYPE=text/html:
LOCATION:5509 Colleyville Blvd #270\, Colleyville
UID:e.642.6003
SEQUENCE:3
DTSTAMP:20260422T100034Z
URL:https://business.colleyvillechamber.org/events/details/ribbon-cutting-which-wich-01-07-2014-6003
END:VEVENT

END:VCALENDAR
