BEGIN:VCALENDAR
VERSION:2.0
PRODID:-//ChamberMaster//Event Calendar 2.0//EN
METHOD:PUBLISH
X-PUBLISHED-TTL:P3D
REFRESH-INTERVAL:P3D
CALSCALE:GREGORIAN
BEGIN:VEVENT
DTSTART;VALUE=DATE:20120825
DTEND;VALUE=DATE:20120826
TRANSP:TRANSPARENT
X-MICROSOFT-CDO-ALLDAYEVENT:TRUE
SUMMARY:Richland Rebel Band 2012 Golf Tournament
DESCRIPTION:Looking for players as well as sponsors for the 2012 Richland Rebel Band Golf Tournament. \n\n\n\n$80.00 player fees include: Green & cart fees\,range balls\,putting green\,2 drink tickets\,lunch\,$29 Discount Return Coupon @Iron Horse\,prizes for winning team (max 4 flights based on # of players) and gift bag from sponsors\n\n\n\nAdditional fees for: Prize raffle\,closest to the hole on all par 3's\,longest drive and Mulligans & Mystery game
X-ALT-DESC;FMTTYPE=text/html:Looking for players as well as sponsors for the 2012 Richland Rebel Band Golf Tournament.&nbsp\;<br />\n<br />\n$80.00 player fees include: Green &amp\; cart fees\,range&nbsp\;balls\,putting green\,2 drink tickets\,lunch\,$29 Discount Return Coupon @Iron Horse\,prizes for winning team (max 4 flights based on # of players) and gift bag from sponsors<br />\n<br />\nAdditional fees for: Prize raffle\,closest to the hole on all par 3&#39\;s\,longest drive and Mulligans&nbsp\;&amp\; Mystery game
LOCATION:Iron Horse Golf Course 6200 Skylark Circle North Richland Hills\, Texas 76180
UID:e.642.5065
SEQUENCE:3
DTSTAMP:20260423T140509Z
URL:https://business.colleyvillechamber.org/events/details/richland-rebel-band-2012-golf-tournament-08-25-2012-5065
END:VEVENT

END:VCALENDAR
