BEGIN:VCALENDAR
VERSION:2.0
PRODID:-//ChamberMaster//Event Calendar 2.0//EN
METHOD:PUBLISH
X-PUBLISHED-TTL:P3D
REFRESH-INTERVAL:P3D
CALSCALE:GREGORIAN
BEGIN:VEVENT
DTSTART:20130410T180000Z
DTEND:20130410T230000Z
X-MICROSOFT-CDO-ALLDAYEVENT:FALSE
SUMMARY:Rodan + Fields Dermatologists at Salon Serenity Suites
DESCRIPTION:Join us for a Shopping and Skin Treatment event hosted by Salon Serenity Suites\n\n\n\nPreferred Vendors:\n\n	\n		Rodan + Fields Dermatologists (with consultants Julie Roth and Rachel Ryan)\n	\n		Shop Therapy Clothing\n	\n		Wanna Be's Handbags\n	\n		Texas Glitter Jewelry\n	\n		Magnificents\n	\n		Shimmer\, Shine and Sparkle Cowboy Boots\n\n\n\nFeaturing Botox and Juvederm Treatments by DFW Medical Spa (must reserve an appointment by Monday\, April 8. Contact Mary Ann Sartain at 703-975-2157 or maryannsartain@aol.com )\n\n	\n		Botox: $8 per unit (cash/check)\, $10 per unit (credit card)\n	\n		Juvederm: $350 per syringe (cash/check)\, $400 per syringe (credit card)
X-ALT-DESC;FMTTYPE=text/html:Join us for a <u>Shopping and Skin Treatment </u>event hosted by Salon Serenity Suites<br />\n<br />\nPreferred Vendors:\n<ul>\n	<li>\n		<span style="color: rgb(128\, 0\, 128)\;">Rodan + Fields Dermatologists (with consultants Julie Roth and Rachel Ryan)</span></li>\n	<li>\n		<span style="color: rgb(0\, 128\, 0)\;">Shop Therapy Clothing</span></li>\n	<li>\n		<span style="color: rgb(178\, 34\, 34)\;">Wanna Be&#39\;s Handbags</span></li>\n	<li>\n		<span style="color: rgb(0\, 0\, 205)\;">Texas Glitter Jewelry</span></li>\n	<li>\n		<span style="color: rgb(0\, 128\, 0)\;">Magnificents</span></li>\n	<li>\n		<span style="color: rgb(75\, 0\, 130)\;">Shimmer\, Shine and Sparkle Cowboy Boots</span></li>\n</ul>\n<br />\nFeaturing <strong>Botox </strong>and <strong>Juvederm</strong> Treatments by DFW Medical Spa (must reserve an appointment by Monday\, April 8. Contact Mary Ann Sartain at 703-975-2157 or <a href="mailto:maryannsartain@aol.com">maryannsartain@aol.com</a> )\n<ul>\n	<li>\n		Botox: $8 per unit (cash/check)\, $10 per unit (credit card)</li>\n	<li>\n		Juvederm: $350 per syringe (cash/check)\, $400 per syringe (credit card)</li>\n</ul>\n
LOCATION:Salon Serenity Suites 1128 Glade Road Colleyville\, TX 76034
UID:e.642.5624
SEQUENCE:3
DTSTAMP:20260423T001218Z
URL:https://business.colleyvillechamber.org/events/details/rodan-fields-dermatologists-at-salon-serenity-suites-04-10-2013-5624
END:VEVENT

END:VCALENDAR
