BEGIN:VCALENDAR
VERSION:2.0
PRODID:-//ChamberMaster//Event Calendar 2.0//EN
METHOD:PUBLISH
X-PUBLISHED-TTL:P3D
REFRESH-INTERVAL:P3D
CALSCALE:GREGORIAN
BEGIN:VEVENT
DTSTART:20130506T160000Z
DTEND:20130506T230000Z
X-MICROSOFT-CDO-ALLDAYEVENT:FALSE
SUMMARY:Rodan + Fields Dermatologists at Salon Serenity Suites
DESCRIPTION:Join us for a Beautiful Skin and Shopping event hosted by Salon Serenity Suites.  Just in time for Mother's Day!\n\n\n\nPreferred Vendors include:\n\n\n	\n		Rodan + Fields Dermatologists (with consultants Julie Roth and Rachel Ryan)\n	\n		Three Spirits Creations by Joni Barger (lovely handmade jewelry...one of a kind!)\n	\n		DFW Medical Spa (Botox and Juvederm treatments)\n	\n		And more...\n\n\n\nBotox ($8 per unit) and Juvederm ($375 per syringe) by appointment only.  Contact MaryAnn Sartain at 703-975-2157 or maryannsartain@aol.com .
X-ALT-DESC;FMTTYPE=text/html:<span style="font-size: 14px\;">Join us for a <span style="color: rgb(0\, 0\, 205)\;"><u>Beautiful Skin and Shopping </u></span>event hosted by Salon Serenity Suites.&nbsp\; Just in time for Mother&#39\;s Day!<br />\n<br />\nPreferred Vendors include:</span><br />\n<ul>\n	<li>\n		<span style="font-size: 14px\;"><span style="color: rgb(128\, 0\, 128)\;">Rodan + Fields Dermatologists (with consultants Julie Roth and Rachel Ryan)</span></span></li>\n	<li>\n		<span style="font-size: 14px\;"><span style="color: rgb(0\, 128\, 0)\;">Three Spirits Creations by Joni Barger (lovely handmade jewelry...one of a kind!)</span></span></li>\n	<li>\n		<span style="font-size: 14px\;"><span style="color: rgb(0\, 0\, 205)\;">DFW Medical Spa (Botox and Juvederm treatments)</span></span></li>\n	<li>\n		<span style="font-size: 14px\;"><span style="color: rgb(165\, 42\, 42)\;">And more...</span></span></li>\n</ul>\n<br />\n<span style="font-size: 14px\;">Botox ($8 per unit)&nbsp\;and Juvederm ($375 per syringe)&nbsp\;by appointment only.&nbsp\; Contact MaryAnn Sartain at 703-975-2157 or <a href="mailto:maryannsartain@aol.com">maryannsartain@aol.com</a> .</span>
LOCATION:Salon Serenity Suites 1128 Glade Road Colleyville\, TX 76034
UID:e.642.5640
SEQUENCE:3
DTSTAMP:20260422T222819Z
URL:https://business.colleyvillechamber.org/events/details/rodan-fields-dermatologists-at-salon-serenity-suites-05-06-2013-5640
END:VEVENT

END:VCALENDAR
