BEGIN:VCALENDAR
VERSION:2.0
PRODID:-//ChamberMaster//Event Calendar 2.0//EN
METHOD:PUBLISH
X-PUBLISHED-TTL:P3D
REFRESH-INTERVAL:P3D
CALSCALE:GREGORIAN
BEGIN:VEVENT
DTSTART:20140120T000000Z
DTEND:20140120T040000Z
X-MICROSOFT-CDO-ALLDAYEVENT:FALSE
SUMMARY:SafeHaven Celebrity Chefs
DESCRIPTION:Join us for an evening of Culinary Magic as we help Child Victims of Domestic Violence "Step Into New Lives."\n\n\n\n\n\n8th Annual Mid-Cities Supporters of SafeHaven Celebrity Chefs 2014. Sunday\, January 19 from 6-10 pm at the Hurst Conference Center. Join us for an evening of Culinary Magic as we help Child Victims of Domestic Violence "Step Into New Lives." Enjoy delicious cuisine from new and returning Celebrity Chefs in Tarrant County and the surrounding areas. Drink an endless glass of wine courtesy of Bear Creek Spirits and Wine and enjoy cold beer courtesy of Coors. Make a donation to this year's theme "Step Into New Lives" and help provide shoes for the women and children in SafeHaven of Tarrant County shelters. Don't forget to buy raffle tickets and try your chance at winning a gift package valued at $2\,550.
X-ALT-DESC;FMTTYPE=text/html:<span style="font-size: 12px\;"><span style="font-family: arial\;"><span new="" times=""><font color="#000000">Join us for an evening of Culinary Magic as we help Child Victims of Domestic Violence &ldquo\;Step Into New Lives.&rdquo\;<br />\n<br />\n<br />\n8th Annual Mid-Cities Supporters of SafeHaven Celebrity Chefs 2014. Sunday\, January 19 from 6-10 pm at the Hurst Conference Center. Join us for an evening of Culinary Magic as we help Child Victims of Domestic Violence &ldquo\;Step Into New Lives.&rdquo\; Enjoy delicious cuisine from new and returning Celebrity Chefs in Tarrant County and the surrounding areas. Drink an endless glass of wine courtesy of Bear Creek Spirits and Wine and enjoy cold beer courtesy of Coors. Make a donation to this year&rsquo\;s theme &ldquo\;Step Into New Lives&rdquo\; and help provide shoes for the women and children in SafeHaven of Tarrant County shelters. Don&rsquo\;t forget to buy raffle tickets and try your chance at winning a gift package valued at $2\,550.</font></span></span></span>\n<p align="center">\n	&nbsp\;</p>\n
LOCATION:Hurst Conference Center
UID:e.642.5983
SEQUENCE:3
DTSTAMP:20260422T112309Z
URL:https://business.colleyvillechamber.org/events/details/safehaven-celebrity-chefs-01-19-2014-5983
END:VEVENT

END:VCALENDAR
