BEGIN:VCALENDAR
VERSION:2.0
PRODID:-//ChamberMaster//Event Calendar 2.0//EN
METHOD:PUBLISH
X-PUBLISHED-TTL:P3D
REFRESH-INTERVAL:P3D
CALSCALE:GREGORIAN
BEGIN:VEVENT
DTSTART:20120519T140000Z
DTEND:20120520T030000Z
X-MICROSOFT-CDO-ALLDAYEVENT:FALSE
SUMMARY:Scooter's Coffee and Yogurt Grand Opening Event
DESCRIPTION:Community of Colleyville Officially Welcomes Scooter's Coffee & Frozen Yogurt\n\n	50/50Blend Campaign awards 100 local residents with a year of free coffee or frozen yogurt.\n\n	 \n\n	COLLEYVILLE\, Texas\, May 15\, 2012   A new Scooter's opened in Colleyville\, bringing bold coffee\, frozen yogurt\, and more than ten new jobs. The Scooter's\, located at 7171 Colleyville Blvd.\, will celebrate with a Grand Opening for customers at 9:00 a.m.\, Saturday\, May 19th.  This Grand Opening offers free coffee or frozen yogurt for a year for the first 100 customers on opening day.\n\n	 \n\n	Store Drive-Thru to Experience Quality\n\n	 "Although we love our customer's\, our goal is to see very little of them on a daily basis. We make great coffee and serve it up fast. The location of our store makes the drive thru convenient for customers heading to or from work or school\," said store owner Steve Villet. "We work hard to offer the highest quality\, natural ingredients to create great tasting products\, ranging from coffees to lattes\, pastries to frozen yogurts with a variety of fresh toppings."\n\n	 \n\n	Community Focused\n\n	Scooter's values customer's time\, so the staff focuses on providing fast service without cutting corners\, while remaining socially responsible. Scooter's prides itself on being an environmentally friendly company and plans to reward those Colleyville community members who mimic these values.\n\n	 \n\n	Community Members Benefit from 50/50 Blend\n\n	As part of Scooter's commitment to the communities in which it operates\, the first 100 customers will receive a gift card\, loaded with one free coffee or frozen yogurt per week for a year.\n\n	 \n\n	Store Manager Melinda said\, "This is a fun way to thank Colleyville residents for giving Scooter's a try. We are looking forward to serving all customers and can't wait to see who lines up first." Melinda added that Scooter's welcomes tents and chairs\, if customers want to line up early in preparation for the Grand Opening gift card give away.\n\n	 \n\n	"We have a fleet of Scooter's Branded cars\, and scooters that can be spotted around Colleyville\," said Melinda. "If we spot you\, doing good in the community\, we'll reward you with a cup of coffee or yogurt\," she added. For example\, if the Scooter fleet sees you petting a pup\, you might just earn a cup.\n\n	 \n\n	Ribbon-Cutting Celebration 9:00 a.m.\, May 19\, 2012\n\n	Community business leaders\, and members of the Chamber of Commerce will join Scooter's staff at 9:00 a.m. Wednesday\, for a brief ribbon-cutting ceremony. Customers will be treated to their 50/50 Blend gift cards\, if they are one of the first 100 through Scooter's on Opening Day.\n\n	 \n\n	About Scooter's\n\n	The values upon which Scooter's co-founders based their company in 1998 established a solid foundation a sure footing--for a drive- thru coffee and yogurt concept that has grown from a few stores in the Omaha metro area into one of the fastest-growing coffee chains and small businesses in the country. Wielding a Midwestern work ethic\, Scooter's committed themselves to finding great locations and never compromising on quality ingredients\, speed of service\, clean stores or big smiles.\n\n	It quickly and naturally became the mission of Scooter's employees and franchisees to consistently provide an unforgettable experience to every customer.\nNow with more than 90 stores in seven states\, it's clear that the model works.
X-ALT-DESC;FMTTYPE=text/html:<p align="center" class="MsoNormal" style="text-align: center">\n	<b>Community of Colleyville Officially Welcomes Scooter&rsquo\;s Coffee &amp\; Frozen Yogurt</b></p>\n<p align="center" class="MsoNormal" style="text-align: center">\n	<i style="mso-bidi-font-style: normal">50/50Blend Campaign awards 100 local residents with a year of free coffee or frozen yogurt.</i></p>\n<p class="MsoNormal">\n	&nbsp\;</p>\n<p class="MsoNormal">\n	<b style="mso-bidi-font-weight: normal">COLLEYVILLE\, Texas\, May 15\, 2012 </b>&ndash\; <span style="mso-bidi-font-weight: bold">A new Scooter&rsquo\;s opened in Colleyville\, bringing bold coffee\, frozen yogurt\, and more than ten new jobs. The Scooter&rsquo\;s\, located at 7171 Colleyville Blvd.\, will celebrate with a Grand Opening for customers a</span>t 9:00 a.m.\, Saturday\, May 19<sup>th</sup>. <span style="mso-spacerun: yes">&nbsp\;</span>This Grand Opening offers free coffee or frozen yogurt for a year for the first 100 customers on opening day.</p>\n<p class="MsoNormal">\n	<b style="mso-bidi-font-weight: normal">&nbsp\;</b></p>\n<p class="MsoNormal">\n	<b style="mso-bidi-font-weight: normal">Store Drive-Thru to Experience Quality</b></p>\n<p class="MsoNormal">\n	<span style="mso-spacerun: yes">&nbsp\;</span>&ldquo\;Although we love our customer&rsquo\;s\, our goal is to see very little of them on a daily basis. We make great coffee and serve it up fast. The location of our store makes the drive thru convenient for customers heading to or from work or school\,&rdquo\; said store owner Steve Villet. &ldquo\;We work hard to offer the highest quality\, natural ingredients to create great tasting products\, ranging from coffees to lattes\, pastries to frozen yogurts with a variety of fresh toppings.&rdquo\;</p>\n<p class="MsoNormal">\n	&nbsp\;</p>\n<p class="MsoNormal">\n	<b style="mso-bidi-font-weight: normal">Community Focused</b></p>\n<p class="MsoNormal">\n	Scooter&rsquo\;s values customer&rsquo\;s time\, so the staff focuses on providing fast service without cutting corners\, while remaining socially responsible. Scooter&rsquo\;s prides itself on being an environmentally friendly company and plans to reward those Colleyville community members who mimic these values.</p>\n<p class="MsoNormal">\n	<span style="mso-bidi-font-style: italic">&nbsp\;</span></p>\n<p class="MsoNormal">\n	<b style="mso-bidi-font-weight: normal"><span style="mso-bidi-font-style: italic">Community Members Benefit from 50/50 Blend</span></b></p>\n<p class="MsoNormal">\n	As part of Scooter&rsquo\;s commitment to the communities in which it operates\, the first 100 customers will receive a gift card\, loaded with one free coffee or frozen yogurt per week for a year.</p>\n<p class="MsoNormal">\n	&nbsp\;</p>\n<p class="MsoNormal">\n	Store Manager Melinda said\, &ldquo\;This is a fun way to thank Colleyville residents for giving Scooter&rsquo\;s a try. We are looking forward to serving all customers and can&rsquo\;t wait to see who lines up first.&rdquo\; Melinda added that Scooter&rsquo\;s welcomes tents and chairs\, if customers want to line up early in preparation for the Grand Opening gift card give away.</p>\n<p class="MsoNormal">\n	&nbsp\;</p>\n<p class="MsoNormal">\n	&ldquo\;We have a fleet of Scooter&rsquo\;s Branded cars\, and scooters that can be spotted around Colleyville\,&rdquo\; said Melinda. &ldquo\;If we spot you\, doing good in the community\, we&rsquo\;ll reward you with a cup of coffee or yogurt\,&rdquo\; she added. For example\, if the Scooter fleet sees you petting a pup\, you might just earn a cup.</p>\n<p class="MsoNormal">\n	<b style="mso-bidi-font-weight: normal">&nbsp\;</b></p>\n<p class="MsoNormal">\n	<b style="mso-bidi-font-weight: normal">Ribbon-Cutting Celebration 9:00 a.m.\, May 19\, 2012</b></p>\n<p class="MsoNormal">\n	Community business leaders\, and members of the Chamber of Commerce will join Scooter&rsquo\;s staff at 9:00 a.m. Wednesday\, for a brief ribbon-cutting ceremony. Customers will be treated to their 50/50 Blend gift cards\, if they are one of the first 100 through Scooter&rsquo\;s on Opening Day.</p>\n<p class="MsoNormal">\n	<b><i>&nbsp\;</i></b></p>\n<p class="MsoNormal">\n	<b><i>About Scooter&rsquo\;s</i></b></p>\n<p class="MsoNormal">\n	The values upon which Scooter&rsquo\;s co-founders based their company in 1998 established a solid foundation&mdash\;a sure footing--for a drive- thru coffee and yogurt concept that has grown from a few stores in the Omaha metro area into one of the fastest-growing coffee chains and small businesses in the country. Wielding a Midwestern work ethic\, Scooter&rsquo\;s committed themselves to finding great locations and never compromising on quality ingredients\, speed of service\, clean stores or big smiles.</p>\n<p class="MsoNormal">\n	It quickly and naturally became the mission of Scooter&rsquo\;s employees and franchisees to consistently provide an unforgettable experience to every customer.</p>\n<span style="font-family: 'cambria'\, 'serif'\; font-size: 12pt\; mso-ascii-theme-font: minor-latin\; mso-fareast-font-family: 'ms mincho'\; mso-fareast-theme-font: minor-fareast\; mso-hansi-theme-font: minor-latin\; mso-bidi-font-family: 'times new roman'\; mso-bidi-theme-font: minor-bidi\; mso-ansi-language: en-us\; mso-fareast-language: en-us\; mso-bidi-language: ar-sa">Now with more than 90 stores in seven states\, it&rsquo\;s clear that the model works. </span>
LOCATION:7171 Colleyville Blvd. Ste. 110
UID:e.642.5048
SEQUENCE:3
DTSTAMP:20260423T200054Z
URL:https://business.colleyvillechamber.org/events/details/scooter-s-coffee-and-yogurt-grand-opening-event-05-19-2012-5048
END:VEVENT

END:VCALENDAR
