BEGIN:VCALENDAR
VERSION:2.0
PRODID:-//ChamberMaster//Event Calendar 2.0//EN
METHOD:PUBLISH
X-PUBLISHED-TTL:P3D
REFRESH-INTERVAL:P3D
CALSCALE:GREGORIAN
BEGIN:VEVENT
DTSTART:20130521T164500Z
DTEND:20130521T180000Z
X-MICROSOFT-CDO-ALLDAYEVENT:FALSE
SUMMARY:Sensational Skin for Summer!
DESCRIPTION:Join us to as we discuss skincare tips to prepare for summer!  Get your skin in tip-top shape\, ready for the harsh summer heat. \n\n\n\nCome experience the Rodan + Fields Dermatologists difference\, addressing your skincare concerns with effective daily regimens and the latest in skincare technology...the Macro Exfoliator.  The MacroE provides spa quality exfoliating treatments in the comfort of your home.\n\n\n\nRodan + Fields...bringing dermatology to the masses\, without a co-pay or a prescription!!
X-ALT-DESC;FMTTYPE=text/html:<strong><span style="color: rgb(0\, 102\, 204)\;"><span style="font-family: tahoma\;">Join us to as we discuss skincare tips to prepare for summer!&nbsp\; Get your skin in tip-top shape\, ready for the harsh summer heat.&nbsp\;<br />\n<br />\nCome experience the Rodan + Fields Dermatologists difference\, addressing your skincare concerns with effective daily regimens and&nbsp\;the latest in skincare technology...the Macro Exfoliator.&nbsp\; The MacroE provides spa quality exfoliating treatments in the comfort of your home.<br />\n<br />\n<u>Rodan + Fields...bringing dermatology to the masses\, without a co-pay or a prescription!!</u></span></span></strong>
LOCATION:Next Wood Fired Bistro and Vino Bar 5003 Colleyville Blvd. Colleyville\, TX 76034
UID:e.642.5652
SEQUENCE:3
DTSTAMP:20260422T222655Z
URL:https://business.colleyvillechamber.org/events/details/sensational-skin-for-summer-05-21-2013-5652
END:VEVENT

END:VCALENDAR
