BEGIN:VCALENDAR
VERSION:2.0
PRODID:-//ChamberMaster//Event Calendar 2.0//EN
METHOD:PUBLISH
X-PUBLISHED-TTL:P3D
REFRESH-INTERVAL:P3D
CALSCALE:GREGORIAN
BEGIN:VEVENT
DTSTART:20220825T133000Z
DTEND:20220825T143000Z
X-MICROSOFT-CDO-ALLDAYEVENT:FALSE
SUMMARY:Serving Our Seniors Committee Meeting
DESCRIPTION:Come join us for our Serving Our Seniors and Community Group! This is a service-oriented group that is committed to service projects throughout the community! Come join us to learn more and network with local business and non- profits. Open to all that want to serve their community!
X-ALT-DESC;FMTTYPE=text/html:<p style="margin: 0px 0px 6px\; font-family: Helvetica\, Arial\, sans-serif\; color: rgb(29\, 33\, 41)\; font-size: 14px\;"><span style="color: rgb(29\, 33\, 41)\; font-family: Helvetica\, Arial\, sans-serif\; font-size: 14px\; background-color: rgb(255\, 255\, 255)\;">Come join us for our Serving Our Seniors and Community Group! This is a service-oriented group that is committed to service projects throughout the community!&nbsp\;</span><span style="color: rgb(29\, 33\, 41)\; font-family: Helvetica\, Arial\, sans-serif\; font-size: 14px\; background-color: rgb(255\, 255\, 255)\;">Come join us to learn more and network with local business and non- profits</span><span style="color: rgb(29\, 33\, 41)\; font-family: Helvetica\, Arial\, sans-serif\; font-size: 14px\; background-color: rgb(255\, 255\, 255)\;">.&nbsp\;</span><span style="color: rgb(29\, 33\, 41)\; font-family: Helvetica\, Arial\, sans-serif\; font-size: 14px\; background-color: rgb(255\, 255\, 255)\;">Open to all that want to serve their community!</span></p>\n
LOCATION:Colleyville Business Center 5601 Colleyvile Blvd. Colleyville\, TX 76034 (* place may vary at times\, so please always check the calendar for any updates)
UID:e.642.23658
SEQUENCE:3
DTSTAMP:20260424T180719Z
URL:https://business.colleyvillechamber.org/events/details/serving-our-seniors-committee-meeting-08-25-2022-23658
END:VEVENT

END:VCALENDAR
