BEGIN:VCALENDAR
VERSION:2.0
PRODID:-//ChamberMaster//Event Calendar 2.0//EN
METHOD:PUBLISH
X-PUBLISHED-TTL:P3D
REFRESH-INTERVAL:P3D
CALSCALE:GREGORIAN
BEGIN:VEVENT
DTSTART:20141115T140000Z
DTEND:20141116T000000Z
X-MICROSOFT-CDO-ALLDAYEVENT:FALSE
SUMMARY:Sherwin-Williams Colleyville Grand Opening
DESCRIPTION:
X-ALT-DESC;FMTTYPE=text/html:
LOCATION:5604 Colleyville Blvd. Colleyville\, TX
UID:e.642.7249
SEQUENCE:3
DTSTAMP:20260421T172326Z
URL:https://business.colleyvillechamber.org/events/details/sherwin-williams-colleyville-grand-opening-11-15-2014-7249
END:VEVENT

END:VCALENDAR
