BEGIN:VCALENDAR
VERSION:2.0
PRODID:-//ChamberMaster//Event Calendar 2.0//EN
METHOD:PUBLISH
X-PUBLISHED-TTL:P3D
REFRESH-INTERVAL:P3D
CALSCALE:GREGORIAN
BEGIN:VEVENT
DTSTART:20131025T150000Z
DTEND:20131025T190000Z
X-MICROSOFT-CDO-ALLDAYEVENT:FALSE
SUMMARY:Shining Stars Luncheon
DESCRIPTION:2013 Shining Stars Luncheon\n\n	benefiting the Programs and Scholarships of\n\n	Arts Council Northeast\n\n	Friday\, October 25\, 2013\n\n	Hurst Conference Center\n\n	1601 Campus Drive\n\n	Hurst\, Texas\n\n	 \n\n	2013 Celebrity\n\n	Amy Wilcox\n\n	Raffle\n\n	Live & Silent Auction\n\n	10:00 a.m.\n\n	Reception & Silent Auction\n\n	\n\n	11:45 a.m.\n\n	Ballroom Doors Open\n\n	\n\n	Noon Luncheon\n\n	Complimentary Valet Parking
X-ALT-DESC;FMTTYPE=text/html:<h2 style="text-align: center\;">\n	2013 Shining Stars Luncheon<br />\n	benefiting the Programs and Scholarships of<br />\n	Arts Council Northeast</h2>\n<h3 style="text-align: center\;">\n	Friday\, October 25\, 2013</h3>\n<div style="text-align: center\;">\n	<strong><span style="font-size: 14pt\;"><a href="http://maps.google.com/maps?q=1601+Campus+Drive\,+Hurst+Tx&amp\;hl=en&amp\;sll=37.0625\,-95.677068&amp\;sspn=30.682067\,86.572266&amp\;z=16" target="_blank">Hurst Conference Center</a></span></strong><br />\n	<span style="font-size: 14pt\;"><span style="text-align: center\;">1601 Campus Drive<br />\n	Hurst\, Texas</span></span><br />\n	&nbsp\;</div>\n<div style="text-align: center\;">\n	<strong><span style="font-size: 14pt\;">2013 Celebrity</span></strong></div>\n<div style="text-align: center\;">\n	<a href="http://www.shiningstarsartsleague.com/celebrity_emcee.aspx"><strong><span style="font-size: 14pt\;"><span style="text-align: center\;">Amy Wilcox</span></span></strong></a></div>\n<h3 style="text-align: center\;">\n	<a href="http://www.shiningstarsartsleague.com/raffle.aspx">Raffle</a><br />\n	Live &amp\; Silent Auction</h3>\n<p style="text-align: center\;">\n	10:00 a.m.<br />\n	Reception &amp\; Silent Auction<br />\n	<br />\n	11:45 a.m.<br />\n	Ballroom Doors Open<br />\n	<br />\n	Noon Luncheon</p>\n<p style="text-align: center\;">\n	Complimentary Valet Parking</p>\n
LOCATION:
UID:e.642.5964
SEQUENCE:3
DTSTAMP:20260422T145431Z
URL:https://business.colleyvillechamber.org/events/details/shining-stars-luncheon-10-25-2013-5964
END:VEVENT

END:VCALENDAR
