BEGIN:VCALENDAR
VERSION:2.0
PRODID:-//ChamberMaster//Event Calendar 2.0//EN
METHOD:PUBLISH
X-PUBLISHED-TTL:P3D
REFRESH-INTERVAL:P3D
CALSCALE:GREGORIAN
BEGIN:VEVENT
DTSTART:20130926T210000Z
DTEND:20130927T000000Z
X-MICROSOFT-CDO-ALLDAYEVENT:FALSE
SUMMARY:Shop for a Cause
DESCRIPTION:Enjoy a fun night where you can shop amazing brands\, learn why your purchase matters and love all the ways these brands\, WORN & Gems 4 Journeys\, are making a difference.  We also have some great give-aways for which you can register. \n\nA portion of the sale proceeds will be donated to Home Care Assistance Team Memory Movers in support of Grapevine Alzheimer's Walk 2013.
X-ALT-DESC;FMTTYPE=text/html:Enjoy a fun night where you can shop amazing brands\, learn why your purchase matters and love all the ways these brands\, WORN &amp\; Gems 4 Journeys\, are making a difference. &nbsp\;We also have some great give-aways for which you can register.&nbsp\;<br />\nA portion of the sale proceeds will be donated to&nbsp\;Home Care Assistance Team Memory Movers&nbsp\;in support of&nbsp\;Grapevine Alzheimer&#39\;s Walk 2013.&nbsp\;
LOCATION:Home Care Assistance 5712 Colleyville Blvd #120\, Colleyville
UID:e.642.5734
SEQUENCE:3
DTSTAMP:20260422T163114Z
URL:https://business.colleyvillechamber.org/events/details/shop-for-a-cause-09-26-2013-5734
END:VEVENT

END:VCALENDAR
