BEGIN:VCALENDAR
VERSION:2.0
PRODID:-//ChamberMaster//Event Calendar 2.0//EN
METHOD:PUBLISH
X-PUBLISHED-TTL:P3D
REFRESH-INTERVAL:P3D
CALSCALE:GREGORIAN
BEGIN:VEVENT
DTSTART:20140130T173000Z
DTEND:20140130T183000Z
X-MICROSOFT-CDO-ALLDAYEVENT:FALSE
SUMMARY:Soup & Socks for Seniors
DESCRIPTION:Each year\, Seniors in our communities find themselves alone at the holidays\; Valentine's Day is no different.  We'd like to keep the spirit of Community\, Caring and Outreach going one more month.  For many who have meals delivered they miss their loved ones - some being without family or friends close by\, some with the isolation of being a widow or widower.  We'd love to remember them beyond Thanksgiving & Christmas and make them feel treasured and cared for on this day of Love.\n\nPlease join us for a warm bowl of soup & donate a pair of Socks to warm someone's soul.\n\nAll socks collected will be given to area organizations and benefits those living alone and in nursing homes to be delivered to Seniors on Valentine's Day 2014.
X-ALT-DESC;FMTTYPE=text/html:Each year\, Seniors in our communities find themselves alone at the holidays\; Valentine&rsquo\;s Day is no different.&nbsp\; We&rsquo\;d like to keep the spirit of Community\, Caring and Outreach going one more month.&nbsp\; For many who have meals delivered they miss their loved ones - some being without family or friends close by\, some with the isolation of being a widow or widower.&nbsp\; We&rsquo\;d love to remember them beyond Thanksgiving &amp\; Christmas and make them feel treasured and cared for on this day of Love.<br />\nPlease join us for a warm bowl of soup &amp\; donate a pair of Socks to warm someone&rsquo\;s soul.<br />\nAll socks collected will be given to area organizations and benefits those living alone and in nursing homes to be delivered to Seniors on Valentine&#39\;s Day 2014.
LOCATION:Hurst Senior Center 700 Heritage Circle Hurst\, TX 76053
UID:e.642.6080
SEQUENCE:3
DTSTAMP:20260422T100210Z
URL:https://business.colleyvillechamber.org/events/details/soup-socks-for-seniors-01-30-2014-6080
END:VEVENT

END:VCALENDAR
