BEGIN:VCALENDAR
VERSION:2.0
PRODID:-//ChamberMaster//Event Calendar 2.0//EN
METHOD:PUBLISH
X-PUBLISHED-TTL:P3D
REFRESH-INTERVAL:P3D
CALSCALE:GREGORIAN
BEGIN:VEVENT
DTSTART:20150411T180000Z
DTEND:20150411T210000Z
X-MICROSOFT-CDO-ALLDAYEVENT:FALSE
SUMMARY:Spring Fashion Show
DESCRIPTION:SPRING FASHION SHOW\n\nSaturday\, April 11\n\n1PM\, Center Court\n\n\n\nSee the hottest looks for Spring modeled on the runway including fashions from all your favorite stores like Buckle\, Francesca's\, A ropostale\, G by GUESS & more. Get your exclusive swag bag filled with goodies*.\n\n\n\n*While supplies last.
X-ALT-DESC;FMTTYPE=text/html:SPRING&nbsp\;FASHION&nbsp\;SHOW<br />\nSaturday\, April 11<br />\n1PM\,&nbsp\;Center Court<br />\n<br />\nSee the hottest looks for Spring modeled on the&nbsp\;runway including fashions from all your favorite stores&nbsp\;like Buckle\, Francesca&rsquo\;s\, A&egrave\;ropostale\, G by GUESS &amp\; more.&nbsp\;Get your exclusive swag bag filled with goodies*.<br />\n<br />\n*While supplies last.
LOCATION:Center Court Near Macy's
UID:e.642.7557
SEQUENCE:3
DTSTAMP:20260421T100830Z
URL:https://business.colleyvillechamber.org/events/details/spring-fashion-show-04-11-2015-7557
END:VEVENT

END:VCALENDAR
