BEGIN:VCALENDAR
VERSION:2.0
PRODID:-//ChamberMaster//Event Calendar 2.0//EN
METHOD:PUBLISH
X-PUBLISHED-TTL:P3D
REFRESH-INTERVAL:P3D
CALSCALE:GREGORIAN
BEGIN:VEVENT
DTSTART:20240406T153000Z
DTEND:20240406T193000Z
X-MICROSOFT-CDO-ALLDAYEVENT:FALSE
SUMMARY:Spring Into Wellness
DESCRIPTION:Join us for a day of health\, fun\, and community! Featuring a video game trailer for the kiddos\, Caribbean Delights\, Demonstrations\, Drawings\, Challenges & more... Over 30+ vendors showcasing the latest in fitness\, nutrition\, and holistic health!
X-ALT-DESC;FMTTYPE=text/html:Join us for a day of health\, fun\, and community! Featuring a video game trailer for the kiddos\, Caribbean Delights\, Demonstrations\, Drawings\, Challenges &amp\; more... Over 30+ vendors showcasing the latest in fitness\, nutrition\, and holistic health!
LOCATION:5600 Colleyville Blvd.\, Suite J Colleyville\, TX 76034
UID:e.642.30309
SEQUENCE:3
DTSTAMP:20260423T103757Z
URL:https://business.colleyvillechamber.org/events/details/spring-into-wellness-30309
END:VEVENT

END:VCALENDAR
