BEGIN:VCALENDAR
VERSION:2.0
PRODID:-//ChamberMaster//Event Calendar 2.0//EN
METHOD:PUBLISH
X-PUBLISHED-TTL:P3D
REFRESH-INTERVAL:P3D
CALSCALE:GREGORIAN
BEGIN:VEVENT
DTSTART:20130420T160000Z
DTEND:20130421T000000Z
X-MICROSOFT-CDO-ALLDAYEVENT:FALSE
SUMMARY:Spring Tea Party
DESCRIPTION:Upcycling\, Recycling and Enjoying Vintage: An Outdoor Fair & Tea Party Featuring Local Artists & Businesses\n\n	Live Music All Day! Complimentary Food & Beverages! Vintage-Style Portraits! Vintage and Upcycled Antiques and Art!
X-ALT-DESC;FMTTYPE=text/html:<p class="MsoNormal">\n	<span style="font-family: Times\; mso-bidi-font-family: Times\; mso-bidi-font-size: 25.0pt\;">Upcycling\, Recycling and Enjoying Vintage: An Outdoor Fair &amp\; Tea Party Featuring Local Artists &amp\; Businesses</span></p>\n<p class="MsoNormal">\n	<span style="font-family: Times\; mso-bidi-font-family: Times\; mso-bidi-font-size: 25.0pt\;">Live Music All Day! Complimentary Food &amp\; Beverages! Vintage-Style Portraits! Vintage and Upcycled Antiques and Art!</span></p>\n
LOCATION:Vintage Tex - 5005 Colleyville Blvd
UID:e.642.5630
SEQUENCE:3
DTSTAMP:20260423T014914Z
URL:https://business.colleyvillechamber.org/events/details/spring-tea-party-04-20-2013-5630
END:VEVENT

END:VCALENDAR
