BEGIN:VCALENDAR
VERSION:2.0
PRODID:-//ChamberMaster//Event Calendar 2.0//EN
METHOD:PUBLISH
X-PUBLISHED-TTL:P3D
REFRESH-INTERVAL:P3D
CALSCALE:GREGORIAN
BEGIN:VEVENT
DTSTART:20140124T000000Z
DTEND:20140124T020000Z
X-MICROSOFT-CDO-ALLDAYEVENT:FALSE
SUMMARY:State of the City
DESCRIPTION:The annual State of the City meeting will be held Thursday\, Jan. 23\, at Colleyville Center\, 5301 Riverwalk Drive. Designed as a one-stop information resource for residents\, the State of the City will be preceded by an open house with city departments and community organizations. The open house begins at 6:00 p.m.\, followed by the State of the City at 7:00 p.m.
X-ALT-DESC;FMTTYPE=text/html:The annual State of the City meeting will be held <strong>Thursday\, Jan. 23\, at Colleyville Center\, 5301 Riverwalk Drive</strong>. Designed as a one-stop information resource for residents\, the State of the City will be preceded by an open house with city departments and community organizations. <strong>The open house begins at 6:00 p.m.\, followed by the State of the City at 7:00 p.m.</strong>
LOCATION:Colleyville Center 5301 Riverwalk Drive Colleyville\, TX
UID:e.642.6077
SEQUENCE:3
DTSTAMP:20260422T100310Z
URL:https://business.colleyvillechamber.org/events/details/state-of-the-city-01-23-2014-6077
END:VEVENT

END:VCALENDAR
