BEGIN:VCALENDAR
VERSION:2.0
PRODID:-//ChamberMaster//Event Calendar 2.0//EN
METHOD:PUBLISH
X-PUBLISHED-TTL:P3D
REFRESH-INTERVAL:P3D
CALSCALE:GREGORIAN
BEGIN:VEVENT
DTSTART:20150130T000000Z
DTEND:20150130T020000Z
X-MICROSOFT-CDO-ALLDAYEVENT:FALSE
SUMMARY:State of the City
DESCRIPTION:Annual State of the City\n\nOpen House at 6 p.m.\; followed by presentation 7 p.m.
X-ALT-DESC;FMTTYPE=text/html:Annual State of the City<br />\nOpen House at 6 p.m.\; followed by presentation 7 p.m.
LOCATION:
UID:e.642.7500
SEQUENCE:3
DTSTAMP:20260421T141529Z
URL:https://business.colleyvillechamber.org/events/details/state-of-the-city-01-29-2015-7500
END:VEVENT

END:VCALENDAR
