BEGIN:VCALENDAR
VERSION:2.0
PRODID:-//ChamberMaster//Event Calendar 2.0//EN
METHOD:PUBLISH
X-PUBLISHED-TTL:P3D
REFRESH-INTERVAL:P3D
CALSCALE:GREGORIAN
BEGIN:VEVENT
DTSTART:20121107T173000Z
DTEND:20121107T191500Z
X-MICROSOFT-CDO-ALLDAYEVENT:FALSE
SUMMARY:State of the County Luncheon with Judge Glen Whitley - Fort Worth Chamber
DESCRIPTION:During the luncheon the 2nd Annual Vandergriff Determined Drive Award will be presented to company\, organization\, individual or event which by virtue of continued determination and drive has positively impacted Tarrant County.  Last year's recipient was General Motors.\n\n	Prior to the luncheon there will be a reception at which the Greater Tarrant Business Ethics Awards will be presented.\n\n	\n\n	Contact the Fort Worth Chamber of Commerce to make reservations.
X-ALT-DESC;FMTTYPE=text/html:<div style="color: gray">\n	<span style="font-size: 11px">During the luncheon the 2<sup>nd</sup> Annual Vandergriff Determined Drive Award will be presented to company\, organization\, individual or event which by virtue of continued determination and drive has positively impacted Tarrant County.&nbsp\; Last year&rsquo\;s recipient was General Motors.<br />\n	Prior to the luncheon there will be a reception at which the Greater Tarrant Business Ethics Awards will be presented.<br />\n	<br />\n	Contact the Fort Worth Chamber of Commerce to make reservations. </span></div>\n
LOCATION:The Worthington Renaissance Fort Worth Hotel 200 Main Street Fort Worth\, TX 76102
UID:e.642.5051
SEQUENCE:3
DTSTAMP:20260423T090532Z
URL:https://business.colleyvillechamber.org/events/details/state-of-the-county-luncheon-with-judge-glen-whitley-fort-worth-chamber-11-07-2012-5051
END:VEVENT

END:VCALENDAR
