BEGIN:VCALENDAR
VERSION:2.0
PRODID:-//ChamberMaster//Event Calendar 2.0//EN
METHOD:PUBLISH
X-PUBLISHED-TTL:P3D
REFRESH-INTERVAL:P3D
CALSCALE:GREGORIAN
BEGIN:VEVENT
DTSTART:20131031T160000Z
DTEND:20131031T183000Z
X-MICROSOFT-CDO-ALLDAYEVENT:FALSE
SUMMARY:Tarrant County Commissioner Precinct 3 United Way BBQ
DESCRIPTION:Join Commissioner Gary Fickes for a good ol' fashioned BBQ benefiting the United Way of Tarrant County. Dine-in and to-go plates will be served. Smoked brisket\, sausage\, beans\, potato salad\, ice tea
X-ALT-DESC;FMTTYPE=text/html:Join Commissioner Gary Fickes for a good ol&#39\; fashioned BBQ benefiting the United Way of Tarrant County. Dine-in and to-go plates will be served. Smoked brisket\, sausage\, beans\, potato salad\, ice tea
LOCATION:Precinct 3 Maintenance Center 7301 Precinct Line Rd. North Richland Hills\, Texas 76180
UID:e.642.5980
SEQUENCE:3
DTSTAMP:20260422T163119Z
URL:https://business.colleyvillechamber.org/events/details/tarrant-county-commissioner-precinct-3-united-way-bbq-10-31-2013-5980
END:VEVENT

END:VCALENDAR
