BEGIN:VCALENDAR
VERSION:2.0
PRODID:-//ChamberMaster//Event Calendar 2.0//EN
METHOD:PUBLISH
X-PUBLISHED-TTL:P3D
REFRESH-INTERVAL:P3D
CALSCALE:GREGORIAN
BEGIN:VEVENT
DTSTART:20121115T233000Z
DTEND:20121116T023000Z
X-MICROSOFT-CDO-ALLDAYEVENT:FALSE
SUMMARY:Taste of Northeast
DESCRIPTION:Enjoy great food\, an array of art\, awesome local entertainment\, a gift market for shopping\, while benefiting the ARTS in North Tarrant County.
X-ALT-DESC;FMTTYPE=text/html:Enjoy great food\, an array of art\, awesome local entertainment\, a gift market for shopping\, while benefiting the ARTS in North Tarrant County.
LOCATION:Hurst Conference Center 1601 Campus Dr. Hurst\, TX 76054
UID:e.642.5124
SEQUENCE:3
DTSTAMP:20260423T090418Z
URL:https://business.colleyvillechamber.org/events/details/taste-of-northeast-11-15-2012-5124
END:VEVENT

END:VCALENDAR
