BEGIN:VCALENDAR
VERSION:2.0
PRODID:-//ChamberMaster//Event Calendar 2.0//EN
METHOD:PUBLISH
X-PUBLISHED-TTL:P3D
REFRESH-INTERVAL:P3D
CALSCALE:GREGORIAN
BEGIN:VEVENT
DTSTART:20240829T133000Z
DTEND:20240829T183000Z
X-MICROSOFT-CDO-ALLDAYEVENT:FALSE
SUMMARY:Teaming Up: Empowering Seniors Expo
DESCRIPTION:Hosted by County Judge Tim O'Hare and County Commissioner Gary Fickes\, this combined Expo is set to bring together over 2\,500 seniors and caregivers for a comprehensive lifestyle and wellness event. The Expo will feature engaging workshops\, health screenings\, entertainment\, demonstrations\, complimentary food\, and numerous Exhibitor booths designed to benefit our Tarrant County seniors.
X-ALT-DESC;FMTTYPE=text/html:Hosted by County Judge Tim O&rsquo\;Hare and County Commissioner Gary Fickes\, this combined Expo is set to bring together over 2\,500 seniors and caregivers for a comprehensive lifestyle and wellness event. The Expo will feature engaging workshops\, health screenings\, entertainment\, demonstrations\, complimentary food\, and numerous Exhibitor booths designed to benefit our Tarrant County seniors.
LOCATION:Will Rogers Amon G. Carter Exhibit Hall\, 3400 Burnett-Tandy Drive\, Fort Worth\, TX 76107
UID:e.642.30599
SEQUENCE:3
DTSTAMP:20260423T091642Z
URL:https://business.colleyvillechamber.org/events/details/teaming-up-empowering-seniors-expo-30599
END:VEVENT

END:VCALENDAR
