BEGIN:VCALENDAR
VERSION:2.0
PRODID:-//ChamberMaster//Event Calendar 2.0//EN
METHOD:PUBLISH
X-PUBLISHED-TTL:P3D
REFRESH-INTERVAL:P3D
CALSCALE:GREGORIAN
BEGIN:VEVENT
DTSTART:20241109T160000Z
DTEND:20241109T220000Z
X-MICROSOFT-CDO-ALLDAYEVENT:FALSE
SUMMARY:Texas Gun Experience 5th Anniversary
DESCRIPTION:From 10 AM to 4 PM\, we will have top-notch product vendors on-site\, showcasing the latest releases from leading brands. Enjoy engaging product demos and insightful Q&A sessions with manufacturer representatives. Don't miss the opportunity for exclusive in-store discounts on the firearm products you want. Experience exhilarating full-auto fun with our exciting new themed machine gun packages. Join us for our anniversary giveaways and much more
X-ALT-DESC;FMTTYPE=text/html:<em>From 10 AM to 4 PM\, we will have top-notch product vendors on-site\, showcasing the latest releases from leading brands. Enjoy engaging product demos and insightful Q&amp\;A sessions with manufacturer representatives. Don&rsquo\;t miss the opportunity for exclusive in-store discounts on the firearm products you want. Experience exhilarating full-auto fun with our exciting new themed machine gun packages. Join us for our anniversary giveaways and much more</em>
LOCATION:Texas Gun Experience 1901 South Main Street Grapevine Tx 76051
UID:e.642.31037
SEQUENCE:3
DTSTAMP:20260423T003025Z
URL:https://business.colleyvillechamber.org/events/details/texas-gun-experience-5th-anniversary-31037
END:VEVENT

END:VCALENDAR
