BEGIN:VCALENDAR
VERSION:2.0
PRODID:-//ChamberMaster//Event Calendar 2.0//EN
METHOD:PUBLISH
X-PUBLISHED-TTL:P3D
REFRESH-INTERVAL:P3D
CALSCALE:GREGORIAN
BEGIN:VEVENT
DTSTART:20130427T140000Z
DTEND:20130427T170000Z
X-MICROSOFT-CDO-ALLDAYEVENT:FALSE
SUMMARY:Texas Junior Anglers
DESCRIPTION:Event is geared for those 16 years of age and under\, and assistance from parents and grandparents is both encouraged and appreciated.  Poles and bait will be provided and no prior fishing experience is necessary.
X-ALT-DESC;FMTTYPE=text/html:Event is geared for those 16 years of age and under\, and assistance from parents and grandparents is both encouraged and appreciated.&nbsp\; Poles and bait will be provided and no prior fishing experience is necessary.&nbsp\; 
LOCATION:
UID:e.642.5619
SEQUENCE:3
DTSTAMP:20260423T000908Z
URL:https://business.colleyvillechamber.org/events/details/texas-junior-anglers-04-27-2013-5619
END:VEVENT

END:VCALENDAR
