BEGIN:VCALENDAR
VERSION:2.0
PRODID:-//ChamberMaster//Event Calendar 2.0//EN
METHOD:PUBLISH
X-PUBLISHED-TTL:P3D
REFRESH-INTERVAL:P3D
CALSCALE:GREGORIAN
BEGIN:VEVENT
DTSTART:20121111T193000Z
DTEND:20121111T213000Z
X-MICROSOFT-CDO-ALLDAYEVENT:FALSE
SUMMARY:The Reading of the Fallen
DESCRIPTION:Join us this Veterans Day as we honor our fallen veterans\, along with hundreds of other reading locations - all participating on the same day. We will read the names of 1\,750 names of our fallen veterans on the same day\, in hopes of honoring 1.2 million fallen veterans through all conflicts from the birth of the United States.  This event will take place simultaneously throughout our Nation\, honoring veterans from all branches of service.  Join us for this historic event to honor today's veterans and all that came before us.\n\n\n\nIf you would like to help read the names of our fallen soldiers on Veterans Day\, please contact Vicki Heminger at 817-909-3252.\n\n\n\nLocally sponsored by Mark S. Henderson\, CFP and Mike S. Franklin\, with The Asset Preservation Group\, Inc.
X-ALT-DESC;FMTTYPE=text/html:<span style="font-size: 12pt"><span style="color: #17365d"><span style="font-family: book antiqua">Join us this Veterans Day as we honor our fallen veterans\, along with hundreds of other reading locations - all participating on the same day. We will read the names of 1\,750 names of our fallen veterans on the same day\, in hopes of honoring 1.2 million fallen veterans through all conflicts from the birth of the United States.&nbsp\; This event will take place simultaneously throughout our Nation\, honoring veterans from all branches of service.&nbsp\; Join us for this historic event to honor today&rsquo\;s veterans and all that came before us.<br />\n<br />\nIf you would like to help read the names of our fallen soldiers on Veterans Day\, please contact Vicki Heminger at 817-909-3252.<br />\n<br />\nLocally sponsored by Mark S. Henderson\, CFP and Mike S. Franklin\, with The Asset Preservation Group\, Inc.</span></span></span><br />\n<br />\n
LOCATION:Colleyville City Hall
UID:e.642.5127
SEQUENCE:3
DTSTAMP:20260423T084846Z
URL:https://business.colleyvillechamber.org/events/details/the-reading-of-the-fallen-11-11-2012-5127
END:VEVENT

END:VCALENDAR
