BEGIN:VCALENDAR
VERSION:2.0
PRODID:-//ChamberMaster//Event Calendar 2.0//EN
METHOD:PUBLISH
X-PUBLISHED-TTL:P3D
REFRESH-INTERVAL:P3D
CALSCALE:GREGORIAN
BEGIN:VEVENT
DTSTART:20240827T223000Z
DTEND:20240828T003000Z
X-MICROSOFT-CDO-ALLDAYEVENT:FALSE
SUMMARY:Toast Tuesdays
DESCRIPTION:Toast Tuesdays is a Networking Group made of members of the Colleyville Chamber and Hurst Euless Bedford Chamber of Commerce.\n\nMeetings are every other Tuesday at 5:30-7:30pm. \n\nThis is an Open Networking Group and Guests are encouraged to attend to make connections and learn more about both Chambers !! \n\n** MEETING LOCATION CHANGE FOR 8/27/2024**\n\n2720 SH-121 N #600\, Euless\, TX 76039
X-ALT-DESC;FMTTYPE=text/html:<div style="text-align: center\;"><span style="color: rgb(5\, 5\, 5)\; font-family: &quot\;Segoe UI Historic&quot\;\, &quot\;Segoe UI&quot\;\, Helvetica\, Arial\, sans-serif\; font-size: 15px\;">Toast Tuesdays is a Networking Group made of members of the Colleyville Chamber and Hurst Euless Bedford Chamber of Commerce.<br />\nMeetings are every other Tuesday at 5:30-7:30pm.&nbsp\;<br />\nThis is an Open Networking Group and Guests are encouraged to attend to make connections and learn more about both Chambers !!&nbsp\;</span><br />\n<strong><span style="font-family: verdana\; font-size: 14px\;">** MEETING LOCATION CHANGE FOR 8/27/2024**</span><br style="font-family: verdana\; font-size: 14px\;" />\n<span style="font-family: verdana\; font-size: 14px\;">2720 SH-121 N #600\, Euless\, TX 76039</span></strong></div>\n
LOCATION:** MEETING LOCATION CHANGE FOR 8/27/2024** 2720 SH-121 N #600\, Euless\, TX 76039
UID:e.642.24875
SEQUENCE:3
DTSTAMP:20260423T035806Z
URL:https://business.colleyvillechamber.org/events/details/toast-tuesdays-08-27-2024-24875
END:VEVENT

END:VCALENDAR
