BEGIN:VCALENDAR
VERSION:2.0
PRODID:-//ChamberMaster//Event Calendar 2.0//EN
METHOD:PUBLISH
X-PUBLISHED-TTL:P3D
REFRESH-INTERVAL:P3D
CALSCALE:GREGORIAN
BEGIN:VEVENT
DTSTART:20120413T000000Z
DTEND:20120413T013000Z
X-MICROSOFT-CDO-ALLDAYEVENT:FALSE
SUMMARY:Tour Night at Covenant Christian Academy
DESCRIPTION:Thursday\, April 12 at 7:00 PM\n\n	 Admissions Tour Night\nCome visit our campus and meet some of the teachers and administrators.\n\nPreK 3 through Grade 12.
X-ALT-DESC;FMTTYPE=text/html:<h2>\n	<span style="color: rgb(255\, 165\, 0)\;"><span style="color: rgb(255\, 165\, 0)\;">Thursday\, April 12 at 7:00 PM</span></span></h2>\n<h2>\n	<span style="color: rgb(255\, 165\, 0)\;">&nbsp\;<span style="color: rgb(0\, 0\, 255)\;"><u>Admissions Tour Night</u></span></span></h2>\n<span style="color: rgb(255\, 165\, 0)\;"><strong><span style="font-size: 14px\;"><span style="color: rgb(255\, 165\, 0)\;">Come visit our campus and meet some of the teachers and administrators.<br />\nPreK 3 through Grade 12</span></span>.</strong></span><br />\n
LOCATION:901 Cheek Sparger Rd Colleyville\, TX 76034
UID:e.642.3723
SEQUENCE:3
DTSTAMP:20260423T195938Z
URL:https://business.colleyvillechamber.org/events/details/tour-night-at-covenant-christian-academy-04-12-2012-3723
END:VEVENT

END:VCALENDAR
