BEGIN:VCALENDAR
VERSION:2.0
PRODID:-//ChamberMaster//Event Calendar 2.0//EN
METHOD:PUBLISH
X-PUBLISHED-TTL:P3D
REFRESH-INTERVAL:P3D
CALSCALE:GREGORIAN
BEGIN:VEVENT
DTSTART:20120509T000000Z
DTEND:20120509T013000Z
X-MICROSOFT-CDO-ALLDAYEVENT:FALSE
SUMMARY:Tour Night at Covenant Christian Academy
DESCRIPTION:Covenant Christian Academy Tour Night\n\nTuesday\, May 8\, 2012\n\n7:00 - 8:30 pm\n\nCome and meet our faculty and staff and tour the campus facilities. Learn about the difference a Covenant education can make in the life of your child.
X-ALT-DESC;FMTTYPE=text/html:Covenant Christian Academy Tour Night<br />\nTuesday\, May 8\, 2012<br />\n7:00 - 8:30 pm<br />\nCome and meet our faculty and staff and tour the campus facilities. Learn about the difference a Covenant education can make in the life of your child.<br />\n
LOCATION:901 Cheek Sparger Road Colleyville\, TX
UID:e.642.4618
SEQUENCE:3
DTSTAMP:20260423T184225Z
URL:https://business.colleyvillechamber.org/events/details/tour-night-at-covenant-christian-academy-05-08-2012-4618
END:VEVENT

END:VCALENDAR
