BEGIN:VCALENDAR
VERSION:2.0
PRODID:-//ChamberMaster//Event Calendar 2.0//EN
METHOD:PUBLISH
X-PUBLISHED-TTL:P3D
REFRESH-INTERVAL:P3D
CALSCALE:GREGORIAN
BEGIN:VEVENT
DTSTART:20140925T233000Z
DTEND:20140926T010000Z
X-MICROSOFT-CDO-ALLDAYEVENT:FALSE
SUMMARY:Town Hall Meeting
DESCRIPTION:Free Town Hall Meeting - Dr. Kevin Wacasey will discuss the\, "Real American Healthcare Crisis". A short presentation will include topics such as optimal ways to save money on your healthcare costs\, navigating Obamacare\, and how to use health insurance wisely with the use of the Wacasey Equation. A robust question and answer period will follow.
X-ALT-DESC;FMTTYPE=text/html:Free Town Hall Meeting - Dr. Kevin Wacasey will discuss the\, &quot\;Real American Healthcare Crisis&quot\;. A short presentation will include topics such as optimal ways to save money on your healthcare costs\, navigating Obamacare\, and how to use health insurance wisely with the use of the Wacasey Equation. A robust question and answer period will follow.
LOCATION:Colleyville Center 5301 Riverwalk Dr Colleyville\, TX 76034
UID:e.642.6934
SEQUENCE:3
DTSTAMP:20260421T205301Z
URL:https://business.colleyvillechamber.org/events/details/town-hall-meeting-09-25-2014-6934
END:VEVENT

END:VCALENDAR
