BEGIN:VCALENDAR
VERSION:2.0
PRODID:-//ChamberMaster//Event Calendar 2.0//EN
METHOD:PUBLISH
X-PUBLISHED-TTL:P3D
REFRESH-INTERVAL:P3D
CALSCALE:GREGORIAN
BEGIN:VEVENT
DTSTART:20141009T204500Z
DTEND:20141009T230000Z
X-MICROSOFT-CDO-ALLDAYEVENT:FALSE
SUMMARY:Trader's Summit (Live Simulcast from San Francisco)
DESCRIPTION:The Traders' Summit\, Fidelity's exclusive signature event held on Thursday\, October 9\, gives investors access to market insights from both inside and outside Fidelity. Come join us for this live Simulcast from San Francisco on Thursday\, October 9th at :\n\n3.45pm to 4.45pm: Market update on the U.S. and global capital markets from Fidelity's Jurrien Timmer\, Director of Global Macro for Fidelity Management & Research Company.\n\n5.00pm to 6.00pm: Panel Discussion moderated by Cory Johnson\, Bloomberg Television\n\nHow innovations in technology will shape our future and where investors are seeing opportunity now.\n\nPanelist include: Jeremy Bailenson - technology expert\, Stanford University's Virtual Reality Lab\n\nGavin Baker - Manager Fidelity OTC Fund\n\nLarry Adam - CIO and Chief Investment Strategist\, Deutsche Asset & Wealth Mgt\n\n\n\nSeating is limited : only 9 seats available! To RSVP: call Sheetal Kelkar at 817-310-3656 x 53958
X-ALT-DESC;FMTTYPE=text/html:The <strong>Traders&rsquo\; Summit\, Fidelity&#39\;s exclusive signature even</strong>t held on Thursday\, October 9\, gives investors access to market insights from both inside and outside Fidelity. Come join us for this live Simulcast from San Francisco on Thursday\, October 9th at :<br />\n<strong>3.45pm to 4.45pm</strong>: Market update on the U.S. and global capital markets from Fidelity&#39\;s Jurrien Timmer\, Director of Global Macro for Fidelity Management &amp\; Research Company.<br />\n<strong>5.00pm to 6.00pm</strong>: Panel Discussion moderated by Cory Johnson\, Bloomberg Television<br />\nHow innovations in technology will shape our future and where investors are seeing opportunity now.<br />\nPanelist include: Jeremy Bailenson - technology expert\, Stanford University&rsquo\;s Virtual Reality Lab<br />\nGavin Baker - Manager Fidelity OTC Fund<br />\nLarry Adam - CIO and Chief Investment Strategist\, Deutsche Asset &amp\; Wealth Mgt<br />\n<br />\n<strong>Seating is limited : only 9 seats available! To RSVP: call Sheetal Kelkar at 817-310-3656 x 53958</strong>
LOCATION:Fidelity Southlake Investor Center 1576 E. Southlake Blvd Southlake\, TX 76092
UID:e.642.6960
SEQUENCE:3
DTSTAMP:20260421T185838Z
URL:https://business.colleyvillechamber.org/events/details/trader-s-summit-live-simulcast-from-san-francisco-10-09-2014-6960
END:VEVENT

END:VCALENDAR
