BEGIN:VCALENDAR
VERSION:2.0
PRODID:-//ChamberMaster//Event Calendar 2.0//EN
METHOD:PUBLISH
X-PUBLISHED-TTL:P3D
REFRESH-INTERVAL:P3D
CALSCALE:GREGORIAN
BEGIN:VEVENT
DTSTART:20141207T180000Z
DTEND:20141208T000000Z
X-MICROSOFT-CDO-ALLDAYEVENT:FALSE
SUMMARY:Train Display Holiday Open House - Support GRACE
DESCRIPTION:Toy Donation (not required) requested in support of GRACE.
X-ALT-DESC;FMTTYPE=text/html:<span style="font-family: comic sans ms\;"><span style="font-size: medium\;">Toy Donation (not required) requested in support of GRACE. &nbsp\;</span></span><br />\n&nbsp\;<br />\n&nbsp\;
LOCATION:4832 Lakeside Drive Colleyville\, TX
UID:e.642.7248
SEQUENCE:3
DTSTAMP:20260421T153345Z
URL:https://business.colleyvillechamber.org/events/details/train-display-holiday-open-house-support-grace-12-07-2014-7248
END:VEVENT

END:VCALENDAR
