BEGIN:VCALENDAR
VERSION:2.0
PRODID:-//ChamberMaster//Event Calendar 2.0//EN
METHOD:PUBLISH
X-PUBLISHED-TTL:P3D
REFRESH-INTERVAL:P3D
CALSCALE:GREGORIAN
BEGIN:VEVENT
DTSTART:20260506T163000Z
DTEND:20260506T183000Z
X-MICROSOFT-CDO-ALLDAYEVENT:FALSE
SUMMARY:Travel Talk WIth Silverseas Cruises & AMA Waterways
DESCRIPTION:Join Southlake Travel with AmaWaterways and Silversea Cruises for a special Travel Talk exploring river and ocean cruise experiences. From immersive journeys through centuries-old European towns to all-suite ocean voyages with butler service and refined dining\, discover which style is thoughtfully tailored for you. May 6\, 11:30 1:30 at Brio Southlake. RSVP required.
X-ALT-DESC;FMTTYPE=text/html:Join Southlake Travel with AmaWaterways and Silversea Cruises for a special Travel Talk exploring river and ocean cruise experiences. From immersive journeys through centuries-old European towns to all-suite ocean voyages with butler service and refined dining\, discover which style is thoughtfully tailored for you. May 6\, 11:30&ndash\;1:30 at Brio Southlake. RSVP required.
LOCATION:Brio Italian Grill\, Southlake Town Square\, Southlake\, TX
UID:e.642.32124
SEQUENCE:3
DTSTAMP:20260419T193304Z
URL:https://business.colleyvillechamber.org/events/details/travel-talk-with-silverseas-cruises-ama-waterways-32124
END:VEVENT

END:VCALENDAR
