BEGIN:VCALENDAR
VERSION:2.0
PRODID:-//ChamberMaster//Event Calendar 2.0//EN
METHOD:PUBLISH
X-PUBLISHED-TTL:P3D
REFRESH-INTERVAL:P3D
CALSCALE:GREGORIAN
BEGIN:VEVENT
DTSTART:20131203T233000Z
DTEND:20131204T013000Z
X-MICROSOFT-CDO-ALLDAYEVENT:FALSE
SUMMARY:Tree Lighting at City Hall
DESCRIPTION:New This Year!  Tree Lighting at City Hall - City and Community Trees. \n\nJoin in for the lighting countdown\, followed by a holiday celebration at the Colleyville Public Library with reindeer games\, holiday treats\, and photos with Santa.
X-ALT-DESC;FMTTYPE=text/html:New This Year!&nbsp\; Tree Lighting at City Hall - City and Community Trees.&nbsp\;<br />\nJoin in for the lighting countdown\, followed by a holiday celebration at&nbsp\;the Colleyville Public Library with reindeer games\, holiday treats\, and photos with Santa.
LOCATION:Colleyville City Hall Main Street Colleyville
UID:e.642.5996
SEQUENCE:3
DTSTAMP:20260422T114344Z
URL:https://business.colleyvillechamber.org/events/details/tree-lighting-at-city-hall-12-03-2013-5996
END:VEVENT

END:VCALENDAR
